BEGIN:VCALENDAR
VERSION:2.0
PRODID:-//Phenix City-Russell County Library - ECPv6.15.17.1//NONSGML v1.0//EN
CALSCALE:GREGORIAN
METHOD:PUBLISH
X-ORIGINAL-URL:https://phenixcitylibrary.com
X-WR-CALDESC:Events for Phenix City-Russell County Library
REFRESH-INTERVAL;VALUE=DURATION:PT1H
X-Robots-Tag:noindex
X-PUBLISHED-TTL:PT1H
BEGIN:VTIMEZONE
TZID:America/New_York
BEGIN:DAYLIGHT
TZOFFSETFROM:-0500
TZOFFSETTO:-0400
TZNAME:EDT
DTSTART:20230312T070000
END:DAYLIGHT
BEGIN:STANDARD
TZOFFSETFROM:-0400
TZOFFSETTO:-0500
TZNAME:EST
DTSTART:20231105T060000
END:STANDARD
BEGIN:DAYLIGHT
TZOFFSETFROM:-0500
TZOFFSETTO:-0400
TZNAME:EDT
DTSTART:20240310T070000
END:DAYLIGHT
BEGIN:STANDARD
TZOFFSETFROM:-0400
TZOFFSETTO:-0500
TZNAME:EST
DTSTART:20241103T060000
END:STANDARD
BEGIN:DAYLIGHT
TZOFFSETFROM:-0500
TZOFFSETTO:-0400
TZNAME:EDT
DTSTART:20250309T070000
END:DAYLIGHT
BEGIN:STANDARD
TZOFFSETFROM:-0400
TZOFFSETTO:-0500
TZNAME:EST
DTSTART:20251102T060000
END:STANDARD
END:VTIMEZONE
BEGIN:VEVENT
DTSTART;TZID=America/New_York:20241231T100000
DTEND;TZID=America/New_York:20241231T160000
DTSTAMP:20260423T161036
CREATED:20240109T214627Z
LAST-MODIFIED:20240109T214756Z
UID:5973-1735639200-1735660800@phenixcitylibrary.com
SUMMARY:Friends of the Library Book Store
DESCRIPTION:Every Tuesday the Friends of the Library book store will be open from 10am – 4pm.
URL:https://phenixcitylibrary.com/event/friends-of-the-library-book-store/2024-12-31/
LOCATION:Phenix City – Russell County Library\, 1501 17th Avenue\, Phenix City\, AL\, 36867\, United States
CATEGORIES:Services
END:VEVENT
BEGIN:VEVENT
DTSTART;TZID=America/New_York:20241224T100000
DTEND;TZID=America/New_York:20241224T160000
DTSTAMP:20260423T161036
CREATED:20240109T214627Z
LAST-MODIFIED:20240109T214755Z
UID:5972-1735034400-1735056000@phenixcitylibrary.com
SUMMARY:Friends of the Library Book Store
DESCRIPTION:Every Tuesday the Friends of the Library book store will be open from 10am – 4pm.
URL:https://phenixcitylibrary.com/event/friends-of-the-library-book-store/2024-12-24/
LOCATION:Phenix City – Russell County Library\, 1501 17th Avenue\, Phenix City\, AL\, 36867\, United States
CATEGORIES:Services
END:VEVENT
BEGIN:VEVENT
DTSTART;TZID=America/New_York:20241217T100000
DTEND;TZID=America/New_York:20241217T160000
DTSTAMP:20260423T161036
CREATED:20240109T214627Z
LAST-MODIFIED:20240109T214755Z
UID:5971-1734429600-1734451200@phenixcitylibrary.com
SUMMARY:Friends of the Library Book Store
DESCRIPTION:Every Tuesday the Friends of the Library book store will be open from 10am – 4pm.
URL:https://phenixcitylibrary.com/event/friends-of-the-library-book-store/2024-12-17/
LOCATION:Phenix City – Russell County Library\, 1501 17th Avenue\, Phenix City\, AL\, 36867\, United States
CATEGORIES:Services
END:VEVENT
BEGIN:VEVENT
DTSTART;TZID=America/New_York:20241210T100000
DTEND;TZID=America/New_York:20241210T160000
DTSTAMP:20260423T161036
CREATED:20240109T214627Z
LAST-MODIFIED:20240109T214755Z
UID:5970-1733824800-1733846400@phenixcitylibrary.com
SUMMARY:Friends of the Library Book Store
DESCRIPTION:Every Tuesday the Friends of the Library book store will be open from 10am – 4pm.
URL:https://phenixcitylibrary.com/event/friends-of-the-library-book-store/2024-12-10/
LOCATION:Phenix City – Russell County Library\, 1501 17th Avenue\, Phenix City\, AL\, 36867\, United States
CATEGORIES:Services
END:VEVENT
BEGIN:VEVENT
DTSTART;TZID=America/New_York:20241203T100000
DTEND;TZID=America/New_York:20241203T160000
DTSTAMP:20260423T161036
CREATED:20240109T214627Z
LAST-MODIFIED:20240109T214755Z
UID:5969-1733220000-1733241600@phenixcitylibrary.com
SUMMARY:Friends of the Library Book Store
DESCRIPTION:Every Tuesday the Friends of the Library book store will be open from 10am – 4pm.
URL:https://phenixcitylibrary.com/event/friends-of-the-library-book-store/2024-12-03/
LOCATION:Phenix City – Russell County Library\, 1501 17th Avenue\, Phenix City\, AL\, 36867\, United States
CATEGORIES:Services
END:VEVENT
BEGIN:VEVENT
DTSTART;TZID=America/New_York:20241126T100000
DTEND;TZID=America/New_York:20241126T160000
DTSTAMP:20260423T161036
CREATED:20240109T214627Z
LAST-MODIFIED:20240109T214755Z
UID:5968-1732615200-1732636800@phenixcitylibrary.com
SUMMARY:Friends of the Library Book Store
DESCRIPTION:Every Tuesday the Friends of the Library book store will be open from 10am – 4pm.
URL:https://phenixcitylibrary.com/event/friends-of-the-library-book-store/2024-11-26/
LOCATION:Phenix City – Russell County Library\, 1501 17th Avenue\, Phenix City\, AL\, 36867\, United States
CATEGORIES:Services
END:VEVENT
BEGIN:VEVENT
DTSTART;TZID=America/New_York:20241119T100000
DTEND;TZID=America/New_York:20241119T160000
DTSTAMP:20260423T161036
CREATED:20240109T214627Z
LAST-MODIFIED:20240109T214754Z
UID:5967-1732010400-1732032000@phenixcitylibrary.com
SUMMARY:Friends of the Library Book Store
DESCRIPTION:Every Tuesday the Friends of the Library book store will be open from 10am – 4pm.
URL:https://phenixcitylibrary.com/event/friends-of-the-library-book-store/2024-11-19/
LOCATION:Phenix City – Russell County Library\, 1501 17th Avenue\, Phenix City\, AL\, 36867\, United States
CATEGORIES:Services
END:VEVENT
BEGIN:VEVENT
DTSTART;TZID=America/New_York:20241112T100000
DTEND;TZID=America/New_York:20241112T160000
DTSTAMP:20260423T161036
CREATED:20240109T214627Z
LAST-MODIFIED:20240109T214754Z
UID:5966-1731405600-1731427200@phenixcitylibrary.com
SUMMARY:Friends of the Library Book Store
DESCRIPTION:Every Tuesday the Friends of the Library book store will be open from 10am – 4pm.
URL:https://phenixcitylibrary.com/event/friends-of-the-library-book-store/2024-11-12/
LOCATION:Phenix City – Russell County Library\, 1501 17th Avenue\, Phenix City\, AL\, 36867\, United States
CATEGORIES:Services
END:VEVENT
BEGIN:VEVENT
DTSTART;TZID=America/New_York:20241105T100000
DTEND;TZID=America/New_York:20241105T160000
DTSTAMP:20260423T161036
CREATED:20240109T214627Z
LAST-MODIFIED:20240109T214754Z
UID:5965-1730800800-1730822400@phenixcitylibrary.com
SUMMARY:Friends of the Library Book Store
DESCRIPTION:Every Tuesday the Friends of the Library book store will be open from 10am – 4pm.
URL:https://phenixcitylibrary.com/event/friends-of-the-library-book-store/2024-11-05/
LOCATION:Phenix City – Russell County Library\, 1501 17th Avenue\, Phenix City\, AL\, 36867\, United States
CATEGORIES:Services
END:VEVENT
BEGIN:VEVENT
DTSTART;TZID=America/New_York:20241029T100000
DTEND;TZID=America/New_York:20241029T160000
DTSTAMP:20260423T161036
CREATED:20240109T214627Z
LAST-MODIFIED:20240109T214754Z
UID:5964-1730196000-1730217600@phenixcitylibrary.com
SUMMARY:Friends of the Library Book Store
DESCRIPTION:Every Tuesday the Friends of the Library book store will be open from 10am – 4pm.
URL:https://phenixcitylibrary.com/event/friends-of-the-library-book-store/2024-10-29/
LOCATION:Phenix City – Russell County Library\, 1501 17th Avenue\, Phenix City\, AL\, 36867\, United States
CATEGORIES:Services
END:VEVENT
BEGIN:VEVENT
DTSTART;TZID=America/New_York:20241022T100000
DTEND;TZID=America/New_York:20241022T160000
DTSTAMP:20260423T161036
CREATED:20240109T214627Z
LAST-MODIFIED:20240109T214754Z
UID:5963-1729591200-1729612800@phenixcitylibrary.com
SUMMARY:Friends of the Library Book Store
DESCRIPTION:Every Tuesday the Friends of the Library book store will be open from 10am – 4pm.
URL:https://phenixcitylibrary.com/event/friends-of-the-library-book-store/2024-10-22/
LOCATION:Phenix City – Russell County Library\, 1501 17th Avenue\, Phenix City\, AL\, 36867\, United States
CATEGORIES:Services
END:VEVENT
BEGIN:VEVENT
DTSTART;TZID=America/New_York:20241015T100000
DTEND;TZID=America/New_York:20241015T160000
DTSTAMP:20260423T161036
CREATED:20240109T214627Z
LAST-MODIFIED:20240109T214753Z
UID:5962-1728986400-1729008000@phenixcitylibrary.com
SUMMARY:Friends of the Library Book Store
DESCRIPTION:Every Tuesday the Friends of the Library book store will be open from 10am – 4pm.
URL:https://phenixcitylibrary.com/event/friends-of-the-library-book-store/2024-10-15/
LOCATION:Phenix City – Russell County Library\, 1501 17th Avenue\, Phenix City\, AL\, 36867\, United States
CATEGORIES:Services
END:VEVENT
BEGIN:VEVENT
DTSTART;TZID=America/New_York:20241008T100000
DTEND;TZID=America/New_York:20241008T160000
DTSTAMP:20260423T161036
CREATED:20240109T214627Z
LAST-MODIFIED:20240109T214753Z
UID:5961-1728381600-1728403200@phenixcitylibrary.com
SUMMARY:Friends of the Library Book Store
DESCRIPTION:Every Tuesday the Friends of the Library book store will be open from 10am – 4pm.
URL:https://phenixcitylibrary.com/event/friends-of-the-library-book-store/2024-10-08/
LOCATION:Phenix City – Russell County Library\, 1501 17th Avenue\, Phenix City\, AL\, 36867\, United States
CATEGORIES:Services
END:VEVENT
BEGIN:VEVENT
DTSTART;TZID=America/New_York:20241001T100000
DTEND;TZID=America/New_York:20241001T160000
DTSTAMP:20260423T161036
CREATED:20240109T214627Z
LAST-MODIFIED:20240109T214752Z
UID:5960-1727776800-1727798400@phenixcitylibrary.com
SUMMARY:Friends of the Library Book Store
DESCRIPTION:Every Tuesday the Friends of the Library book store will be open from 10am – 4pm.
URL:https://phenixcitylibrary.com/event/friends-of-the-library-book-store/2024-10-01/
LOCATION:Phenix City – Russell County Library\, 1501 17th Avenue\, Phenix City\, AL\, 36867\, United States
CATEGORIES:Services
END:VEVENT
BEGIN:VEVENT
DTSTART;TZID=America/New_York:20240924T100000
DTEND;TZID=America/New_York:20240924T160000
DTSTAMP:20260423T161036
CREATED:20240109T214627Z
LAST-MODIFIED:20240109T214752Z
UID:5959-1727172000-1727193600@phenixcitylibrary.com
SUMMARY:Friends of the Library Book Store
DESCRIPTION:Every Tuesday the Friends of the Library book store will be open from 10am – 4pm.
URL:https://phenixcitylibrary.com/event/friends-of-the-library-book-store/2024-09-24/
LOCATION:Phenix City – Russell County Library\, 1501 17th Avenue\, Phenix City\, AL\, 36867\, United States
CATEGORIES:Services
END:VEVENT
BEGIN:VEVENT
DTSTART;TZID=America/New_York:20240917T100000
DTEND;TZID=America/New_York:20240917T160000
DTSTAMP:20260423T161036
CREATED:20240109T214627Z
LAST-MODIFIED:20240109T214752Z
UID:5958-1726567200-1726588800@phenixcitylibrary.com
SUMMARY:Friends of the Library Book Store
DESCRIPTION:Every Tuesday the Friends of the Library book store will be open from 10am – 4pm.
URL:https://phenixcitylibrary.com/event/friends-of-the-library-book-store/2024-09-17/
LOCATION:Phenix City – Russell County Library\, 1501 17th Avenue\, Phenix City\, AL\, 36867\, United States
CATEGORIES:Services
END:VEVENT
BEGIN:VEVENT
DTSTART;TZID=America/New_York:20240910T100000
DTEND;TZID=America/New_York:20240910T160000
DTSTAMP:20260423T161036
CREATED:20240109T214627Z
LAST-MODIFIED:20240109T214752Z
UID:5957-1725962400-1725984000@phenixcitylibrary.com
SUMMARY:Friends of the Library Book Store
DESCRIPTION:Every Tuesday the Friends of the Library book store will be open from 10am – 4pm.
URL:https://phenixcitylibrary.com/event/friends-of-the-library-book-store/2024-09-10/
LOCATION:Phenix City – Russell County Library\, 1501 17th Avenue\, Phenix City\, AL\, 36867\, United States
CATEGORIES:Services
END:VEVENT
BEGIN:VEVENT
DTSTART;TZID=America/New_York:20240903T100000
DTEND;TZID=America/New_York:20240903T160000
DTSTAMP:20260423T161036
CREATED:20240109T214627Z
LAST-MODIFIED:20240109T214752Z
UID:5956-1725357600-1725379200@phenixcitylibrary.com
SUMMARY:Friends of the Library Book Store
DESCRIPTION:Every Tuesday the Friends of the Library book store will be open from 10am – 4pm.
URL:https://phenixcitylibrary.com/event/friends-of-the-library-book-store/2024-09-03/
LOCATION:Phenix City – Russell County Library\, 1501 17th Avenue\, Phenix City\, AL\, 36867\, United States
CATEGORIES:Services
END:VEVENT
BEGIN:VEVENT
DTSTART;TZID=America/New_York:20240827T100000
DTEND;TZID=America/New_York:20240827T160000
DTSTAMP:20260423T161036
CREATED:20240109T214627Z
LAST-MODIFIED:20240109T214752Z
UID:5955-1724752800-1724774400@phenixcitylibrary.com
SUMMARY:Friends of the Library Book Store
DESCRIPTION:Every Tuesday the Friends of the Library book store will be open from 10am – 4pm.
URL:https://phenixcitylibrary.com/event/friends-of-the-library-book-store/2024-08-27/
LOCATION:Phenix City – Russell County Library\, 1501 17th Avenue\, Phenix City\, AL\, 36867\, United States
CATEGORIES:Services
END:VEVENT
BEGIN:VEVENT
DTSTART;TZID=America/New_York:20240820T100000
DTEND;TZID=America/New_York:20240820T160000
DTSTAMP:20260423T161036
CREATED:20240109T214627Z
LAST-MODIFIED:20240109T214752Z
UID:5954-1724148000-1724169600@phenixcitylibrary.com
SUMMARY:Friends of the Library Book Store
DESCRIPTION:Every Tuesday the Friends of the Library book store will be open from 10am – 4pm.
URL:https://phenixcitylibrary.com/event/friends-of-the-library-book-store/2024-08-20/
LOCATION:Phenix City – Russell County Library\, 1501 17th Avenue\, Phenix City\, AL\, 36867\, United States
CATEGORIES:Services
END:VEVENT
BEGIN:VEVENT
DTSTART;TZID=America/New_York:20240813T100000
DTEND;TZID=America/New_York:20240813T160000
DTSTAMP:20260423T161036
CREATED:20240109T214627Z
LAST-MODIFIED:20240109T214751Z
UID:5953-1723543200-1723564800@phenixcitylibrary.com
SUMMARY:Friends of the Library Book Store
DESCRIPTION:Every Tuesday the Friends of the Library book store will be open from 10am – 4pm.
URL:https://phenixcitylibrary.com/event/friends-of-the-library-book-store/2024-08-13/
LOCATION:Phenix City – Russell County Library\, 1501 17th Avenue\, Phenix City\, AL\, 36867\, United States
CATEGORIES:Services
END:VEVENT
BEGIN:VEVENT
DTSTART;TZID=America/New_York:20240806T100000
DTEND;TZID=America/New_York:20240806T160000
DTSTAMP:20260423T161036
CREATED:20240109T214627Z
LAST-MODIFIED:20240109T214751Z
UID:5952-1722938400-1722960000@phenixcitylibrary.com
SUMMARY:Friends of the Library Book Store
DESCRIPTION:Every Tuesday the Friends of the Library book store will be open from 10am – 4pm.
URL:https://phenixcitylibrary.com/event/friends-of-the-library-book-store/2024-08-06/
LOCATION:Phenix City – Russell County Library\, 1501 17th Avenue\, Phenix City\, AL\, 36867\, United States
CATEGORIES:Services
END:VEVENT
BEGIN:VEVENT
DTSTART;TZID=America/New_York:20240730T100000
DTEND;TZID=America/New_York:20240730T160000
DTSTAMP:20260423T161036
CREATED:20240109T214627Z
LAST-MODIFIED:20240109T214751Z
UID:5951-1722333600-1722355200@phenixcitylibrary.com
SUMMARY:Friends of the Library Book Store
DESCRIPTION:Every Tuesday the Friends of the Library book store will be open from 10am – 4pm.
URL:https://phenixcitylibrary.com/event/friends-of-the-library-book-store/2024-07-30/
LOCATION:Phenix City – Russell County Library\, 1501 17th Avenue\, Phenix City\, AL\, 36867\, United States
CATEGORIES:Services
END:VEVENT
BEGIN:VEVENT
DTSTART;TZID=America/New_York:20240723T100000
DTEND;TZID=America/New_York:20240723T160000
DTSTAMP:20260423T161036
CREATED:20240109T214627Z
LAST-MODIFIED:20240109T214750Z
UID:5950-1721728800-1721750400@phenixcitylibrary.com
SUMMARY:Friends of the Library Book Store
DESCRIPTION:Every Tuesday the Friends of the Library book store will be open from 10am – 4pm.
URL:https://phenixcitylibrary.com/event/friends-of-the-library-book-store/2024-07-23/
LOCATION:Phenix City – Russell County Library\, 1501 17th Avenue\, Phenix City\, AL\, 36867\, United States
CATEGORIES:Services
END:VEVENT
BEGIN:VEVENT
DTSTART;TZID=America/New_York:20240716T100000
DTEND;TZID=America/New_York:20240716T160000
DTSTAMP:20260423T161036
CREATED:20240109T214627Z
LAST-MODIFIED:20240109T214750Z
UID:5949-1721124000-1721145600@phenixcitylibrary.com
SUMMARY:Friends of the Library Book Store
DESCRIPTION:Every Tuesday the Friends of the Library book store will be open from 10am – 4pm.
URL:https://phenixcitylibrary.com/event/friends-of-the-library-book-store/2024-07-16/
LOCATION:Phenix City – Russell County Library\, 1501 17th Avenue\, Phenix City\, AL\, 36867\, United States
CATEGORIES:Services
END:VEVENT
BEGIN:VEVENT
DTSTART;TZID=America/New_York:20240709T100000
DTEND;TZID=America/New_York:20240709T160000
DTSTAMP:20260423T161036
CREATED:20240109T214627Z
LAST-MODIFIED:20240109T214750Z
UID:5948-1720519200-1720540800@phenixcitylibrary.com
SUMMARY:Friends of the Library Book Store
DESCRIPTION:Every Tuesday the Friends of the Library book store will be open from 10am – 4pm.
URL:https://phenixcitylibrary.com/event/friends-of-the-library-book-store/2024-07-09/
LOCATION:Phenix City – Russell County Library\, 1501 17th Avenue\, Phenix City\, AL\, 36867\, United States
CATEGORIES:Services
END:VEVENT
BEGIN:VEVENT
DTSTART;TZID=America/New_York:20240702T100000
DTEND;TZID=America/New_York:20240702T160000
DTSTAMP:20260423T161036
CREATED:20240109T214627Z
LAST-MODIFIED:20240109T214750Z
UID:5947-1719914400-1719936000@phenixcitylibrary.com
SUMMARY:Friends of the Library Book Store
DESCRIPTION:Every Tuesday the Friends of the Library book store will be open from 10am – 4pm.
URL:https://phenixcitylibrary.com/event/friends-of-the-library-book-store/2024-07-02/
LOCATION:Phenix City – Russell County Library\, 1501 17th Avenue\, Phenix City\, AL\, 36867\, United States
CATEGORIES:Services
END:VEVENT
BEGIN:VEVENT
DTSTART;TZID=America/New_York:20240625T100000
DTEND;TZID=America/New_York:20240625T160000
DTSTAMP:20260423T161036
CREATED:20240109T214627Z
LAST-MODIFIED:20240109T214750Z
UID:5946-1719309600-1719331200@phenixcitylibrary.com
SUMMARY:Friends of the Library Book Store
DESCRIPTION:Every Tuesday the Friends of the Library book store will be open from 10am – 4pm.
URL:https://phenixcitylibrary.com/event/friends-of-the-library-book-store/2024-06-25/
LOCATION:Phenix City – Russell County Library\, 1501 17th Avenue\, Phenix City\, AL\, 36867\, United States
CATEGORIES:Services
END:VEVENT
BEGIN:VEVENT
DTSTART;TZID=America/New_York:20240618T100000
DTEND;TZID=America/New_York:20240618T160000
DTSTAMP:20260423T161036
CREATED:20240109T214627Z
LAST-MODIFIED:20240109T214750Z
UID:5945-1718704800-1718726400@phenixcitylibrary.com
SUMMARY:Friends of the Library Book Store
DESCRIPTION:Every Tuesday the Friends of the Library book store will be open from 10am – 4pm.
URL:https://phenixcitylibrary.com/event/friends-of-the-library-book-store/2024-06-18/
LOCATION:Phenix City – Russell County Library\, 1501 17th Avenue\, Phenix City\, AL\, 36867\, United States
CATEGORIES:Services
END:VEVENT
BEGIN:VEVENT
DTSTART;TZID=America/New_York:20240611T100000
DTEND;TZID=America/New_York:20240611T160000
DTSTAMP:20260423T161036
CREATED:20240109T214627Z
LAST-MODIFIED:20240109T214749Z
UID:5944-1718100000-1718121600@phenixcitylibrary.com
SUMMARY:Friends of the Library Book Store
DESCRIPTION:Every Tuesday the Friends of the Library book store will be open from 10am – 4pm.
URL:https://phenixcitylibrary.com/event/friends-of-the-library-book-store/2024-06-11/
LOCATION:Phenix City – Russell County Library\, 1501 17th Avenue\, Phenix City\, AL\, 36867\, United States
CATEGORIES:Services
END:VEVENT
END:VCALENDAR