BEGIN:VCALENDAR
VERSION:2.0
PRODID:-//Phenix City-Russell County Library - ECPv6.15.17.1//NONSGML v1.0//EN
CALSCALE:GREGORIAN
METHOD:PUBLISH
X-WR-CALNAME:Phenix City-Russell County Library
X-ORIGINAL-URL:https://phenixcitylibrary.com
X-WR-CALDESC:Events for Phenix City-Russell County Library
REFRESH-INTERVAL;VALUE=DURATION:PT1H
X-Robots-Tag:noindex
X-PUBLISHED-TTL:PT1H
BEGIN:VTIMEZONE
TZID:America/New_York
BEGIN:DAYLIGHT
TZOFFSETFROM:-0500
TZOFFSETTO:-0400
TZNAME:EDT
DTSTART:20160313T070000
END:DAYLIGHT
BEGIN:STANDARD
TZOFFSETFROM:-0400
TZOFFSETTO:-0500
TZNAME:EST
DTSTART:20161106T060000
END:STANDARD
BEGIN:DAYLIGHT
TZOFFSETFROM:-0500
TZOFFSETTO:-0400
TZNAME:EDT
DTSTART:20170312T070000
END:DAYLIGHT
BEGIN:STANDARD
TZOFFSETFROM:-0400
TZOFFSETTO:-0500
TZNAME:EST
DTSTART:20171105T060000
END:STANDARD
BEGIN:DAYLIGHT
TZOFFSETFROM:-0500
TZOFFSETTO:-0400
TZNAME:EDT
DTSTART:20180311T070000
END:DAYLIGHT
BEGIN:STANDARD
TZOFFSETFROM:-0400
TZOFFSETTO:-0500
TZNAME:EST
DTSTART:20181104T060000
END:STANDARD
END:VTIMEZONE
BEGIN:VEVENT
DTSTART;VALUE=DATE:20170704
DTEND;VALUE=DATE:20170706
DTSTAMP:20260422T215604
CREATED:20170501T174351Z
LAST-MODIFIED:20170626T195223Z
UID:1516-1499126400-1499299199@phenixcitylibrary.com
SUMMARY:Library Closed
DESCRIPTION:The library will be closed on Tuesday\, July 4\, and Wednesday\, July 5\, 2017\, in observance of the Independence Day holiday\, and will reopen for normal business hours on Thursday at 9:30 a.m. EDT. \nWe hope you all have a safe and enjoyable Fourth of July!
URL:https://phenixcitylibrary.com/event/library-closed-4/
LOCATION:Phenix City – Russell County Library\, 1501 17th Avenue\, Phenix City\, AL\, 36867\, United States
CATEGORIES:Children,Education,Events,Services,Teens
ATTACH;FMTTYPE=image/jpeg:https://phenixcitylibrary.com/wp-content/uploads/2017/04/Library-Closed.jpg
END:VEVENT
BEGIN:VEVENT
DTSTART;TZID=America/New_York:20170706T100000
DTEND;TZID=America/New_York:20170706T100000
DTSTAMP:20260422T215604
CREATED:20170510T195952Z
LAST-MODIFIED:20170516T195247Z
UID:1548-1499335200-1499335200@phenixcitylibrary.com
SUMMARY:Children's Summer Reading Program: Oxbow Meadows
DESCRIPTION:The Summer Reading Program is back!! The Children’s Program will meet every Thursday\, June 8 through July 13\, at 10 a.m. EDT. See flyer below for our weekly program details. \nAll ages are welcomed to come to our weekly Children’s Program events at the library. \nSee you there!
URL:https://phenixcitylibrary.com/event/summer-reading-childrens-program-2017-07-06/
LOCATION:Phenix City – Russell County Library\, 1501 17th Avenue\, Phenix City\, AL\, 36867\, United States
CATEGORIES:Children,Events,Services
ATTACH;FMTTYPE=image/jpeg:https://phenixcitylibrary.com/wp-content/uploads/2017/05/Summer-Reading-Childrens.jpg
END:VEVENT
BEGIN:VEVENT
DTSTART;TZID=America/New_York:20170706T140000
DTEND;TZID=America/New_York:20170706T140000
DTSTAMP:20260422T215604
CREATED:20170510T200350Z
LAST-MODIFIED:20170516T195039Z
UID:1554-1499349600-1499349600@phenixcitylibrary.com
SUMMARY:Junior Summer Reading Program: Olympics
DESCRIPTION:The Summer Reading Program is back!! The Junior’s Program will meet every Thursday\, June 8 through July 13\, at 2 p.m. EDT. See flyer below for our weekly program details. \nAges 7-11 are welcomed to join us for our weekly Junior Program events at the library. \nSee you there!
URL:https://phenixcitylibrary.com/event/summer-reading-juniors-program-2017-07-06/
LOCATION:Phenix City – Russell County Library\, 1501 17th Avenue\, Phenix City\, AL\, 36867\, United States
CATEGORIES:Children,Events,Services
ATTACH;FMTTYPE=image/jpeg:https://phenixcitylibrary.com/wp-content/uploads/2017/05/Summer-Reading-Juniors.jpg
END:VEVENT
BEGIN:VEVENT
DTSTART;TZID=America/New_York:20170713T100000
DTEND;TZID=America/New_York:20170713T100000
DTSTAMP:20260422T215604
CREATED:20170510T195952Z
LAST-MODIFIED:20170523T135049Z
UID:1549-1499940000-1499940000@phenixcitylibrary.com
SUMMARY:Summer Reading Program: Celebration!
DESCRIPTION:The Summer Reading Program is back!! The Children’s and Junior’s Programs will commence with a final CELEBRATION on Thursday\, July 13\, at 10 a.m. EDT! See flyer below for details. \nSee you there!!
URL:https://phenixcitylibrary.com/event/summer-reading-childrens-program-2017-07-13/
LOCATION:Phenix City – Russell County Library\, 1501 17th Avenue\, Phenix City\, AL\, 36867\, United States
CATEGORIES:Children,Events,Services
ATTACH;FMTTYPE=image/png:https://phenixcitylibrary.com/wp-content/uploads/2017/05/Summer-Reading-Celebration.png
END:VEVENT
END:VCALENDAR