BEGIN:VCALENDAR
VERSION:2.0
PRODID:-//Phenix City-Russell County Library - ECPv6.15.17.1//NONSGML v1.0//EN
CALSCALE:GREGORIAN
METHOD:PUBLISH
X-WR-CALNAME:Phenix City-Russell County Library
X-ORIGINAL-URL:https://phenixcitylibrary.com
X-WR-CALDESC:Events for Phenix City-Russell County Library
REFRESH-INTERVAL;VALUE=DURATION:PT1H
X-Robots-Tag:noindex
X-PUBLISHED-TTL:PT1H
BEGIN:VTIMEZONE
TZID:America/New_York
BEGIN:DAYLIGHT
TZOFFSETFROM:-0500
TZOFFSETTO:-0400
TZNAME:EDT
DTSTART:20160313T070000
END:DAYLIGHT
BEGIN:STANDARD
TZOFFSETFROM:-0400
TZOFFSETTO:-0500
TZNAME:EST
DTSTART:20161106T060000
END:STANDARD
BEGIN:DAYLIGHT
TZOFFSETFROM:-0500
TZOFFSETTO:-0400
TZNAME:EDT
DTSTART:20170312T070000
END:DAYLIGHT
BEGIN:STANDARD
TZOFFSETFROM:-0400
TZOFFSETTO:-0500
TZNAME:EST
DTSTART:20171105T060000
END:STANDARD
BEGIN:DAYLIGHT
TZOFFSETFROM:-0500
TZOFFSETTO:-0400
TZNAME:EDT
DTSTART:20180311T070000
END:DAYLIGHT
BEGIN:STANDARD
TZOFFSETFROM:-0400
TZOFFSETTO:-0500
TZNAME:EST
DTSTART:20181104T060000
END:STANDARD
END:VTIMEZONE
BEGIN:VEVENT
DTSTART;TZID=America/New_York:20170706T100000
DTEND;TZID=America/New_York:20170706T100000
DTSTAMP:20260419T151749
CREATED:20170510T195952Z
LAST-MODIFIED:20170516T195247Z
UID:1548-1499335200-1499335200@phenixcitylibrary.com
SUMMARY:Children's Summer Reading Program: Oxbow Meadows
DESCRIPTION:The Summer Reading Program is back!! The Children’s Program will meet every Thursday\, June 8 through July 13\, at 10 a.m. EDT. See flyer below for our weekly program details. \nAll ages are welcomed to come to our weekly Children’s Program events at the library. \nSee you there!
URL:https://phenixcitylibrary.com/event/summer-reading-childrens-program-2017-07-06/
LOCATION:Phenix City – Russell County Library\, 1501 17th Avenue\, Phenix City\, AL\, 36867\, United States
CATEGORIES:Children,Events,Services
ATTACH;FMTTYPE=image/jpeg:https://phenixcitylibrary.com/wp-content/uploads/2017/05/Summer-Reading-Childrens.jpg
END:VEVENT
BEGIN:VEVENT
DTSTART;VALUE=DATE:20170704
DTEND;VALUE=DATE:20170706
DTSTAMP:20260419T151749
CREATED:20170501T174351Z
LAST-MODIFIED:20170626T195223Z
UID:1516-1499126400-1499299199@phenixcitylibrary.com
SUMMARY:Library Closed
DESCRIPTION:The library will be closed on Tuesday\, July 4\, and Wednesday\, July 5\, 2017\, in observance of the Independence Day holiday\, and will reopen for normal business hours on Thursday at 9:30 a.m. EDT. \nWe hope you all have a safe and enjoyable Fourth of July!
URL:https://phenixcitylibrary.com/event/library-closed-4/
LOCATION:Phenix City – Russell County Library\, 1501 17th Avenue\, Phenix City\, AL\, 36867\, United States
CATEGORIES:Children,Education,Events,Services,Teens
ATTACH;FMTTYPE=image/jpeg:https://phenixcitylibrary.com/wp-content/uploads/2017/04/Library-Closed.jpg
END:VEVENT
BEGIN:VEVENT
DTSTART;TZID=America/New_York:20170629T140000
DTEND;TZID=America/New_York:20170629T140000
DTSTAMP:20260419T151749
CREATED:20170510T200350Z
LAST-MODIFIED:20170516T195021Z
UID:1553-1498744800-1498744800@phenixcitylibrary.com
SUMMARY:Junior Summer Reading Program: Building with Legos
DESCRIPTION:The Summer Reading Program is back!! The Junior’s Program will meet every Thursday\, June 8 through July 13\, at 2 p.m. EDT. See flyer below for our weekly program details. \nAges 7-11 are welcomed to join us for our weekly Junior Program events at the library. \nSee you there!
URL:https://phenixcitylibrary.com/event/summer-reading-juniors-program-2017-06-29/
LOCATION:Phenix City – Russell County Library\, 1501 17th Avenue\, Phenix City\, AL\, 36867\, United States
CATEGORIES:Children,Events,Services
ATTACH;FMTTYPE=image/jpeg:https://phenixcitylibrary.com/wp-content/uploads/2017/05/Summer-Reading-Juniors.jpg
END:VEVENT
BEGIN:VEVENT
DTSTART;TZID=America/New_York:20170629T100000
DTEND;TZID=America/New_York:20170629T100000
DTSTAMP:20260419T151749
CREATED:20170510T195952Z
LAST-MODIFIED:20170516T195335Z
UID:1547-1498730400-1498730400@phenixcitylibrary.com
SUMMARY:Children's Summer Reading Program: Eric Willis - Build a World of Science with Doc Atoms!
DESCRIPTION:The Summer Reading Program is back!! The Children’s Program will meet every Thursday\, June 8 through July 13\, at 10 a.m. EDT. See flyer below for our weekly program details. \nAll ages are welcomed to come to our weekly Children’s Program events at the library. \nSee you there!
URL:https://phenixcitylibrary.com/event/summer-reading-childrens-program-2017-06-29/
LOCATION:Phenix City – Russell County Library\, 1501 17th Avenue\, Phenix City\, AL\, 36867\, United States
CATEGORIES:Children,Events,Services
ATTACH;FMTTYPE=image/jpeg:https://phenixcitylibrary.com/wp-content/uploads/2017/05/Summer-Reading-Childrens.jpg
END:VEVENT
BEGIN:VEVENT
DTSTART;TZID=America/New_York:20170622T140000
DTEND;TZID=America/New_York:20170622T140000
DTSTAMP:20260419T151749
CREATED:20170510T200350Z
LAST-MODIFIED:20170516T195004Z
UID:1552-1498140000-1498140000@phenixcitylibrary.com
SUMMARY:Junior Summer Reading Program: Building a Better Community
DESCRIPTION:The Summer Reading Program is back!! The Junior’s Program will meet every Thursday\, June 8 through July 13\, at 2 p.m. EDT. See flyer below for our weekly program details. \nAges 7-11 are welcomed to join us for our weekly Junior Program events at the library. \nSee you there!
URL:https://phenixcitylibrary.com/event/summer-reading-juniors-program-2017-06-22/
LOCATION:Phenix City – Russell County Library\, 1501 17th Avenue\, Phenix City\, AL\, 36867\, United States
CATEGORIES:Children,Events,Services
ATTACH;FMTTYPE=image/jpeg:https://phenixcitylibrary.com/wp-content/uploads/2017/05/Summer-Reading-Juniors.jpg
END:VEVENT
BEGIN:VEVENT
DTSTART;TZID=America/New_York:20170622T100000
DTEND;TZID=America/New_York:20170622T100000
DTSTAMP:20260419T151749
CREATED:20170510T195952Z
LAST-MODIFIED:20170516T195415Z
UID:1546-1498125600-1498125600@phenixcitylibrary.com
SUMMARY:Children's Summer Reading Program: Bill Packard - Build a Giant Mouse Trap with the Magic Man!
DESCRIPTION:The Summer Reading Program is back!! The Children’s Program will meet every Thursday\, June 8 through July 13\, at 10 a.m. EDT. See flyer below for our weekly program details. \nAll ages are welcomed to come to our weekly Children’s Program events at the library. \nSee you there!
URL:https://phenixcitylibrary.com/event/summer-reading-childrens-program-2017-06-22/
LOCATION:Phenix City – Russell County Library\, 1501 17th Avenue\, Phenix City\, AL\, 36867\, United States
CATEGORIES:Children,Events,Services
ATTACH;FMTTYPE=image/jpeg:https://phenixcitylibrary.com/wp-content/uploads/2017/05/Summer-Reading-Childrens.jpg
END:VEVENT
BEGIN:VEVENT
DTSTART;TZID=America/New_York:20170620T173000
DTEND;TZID=America/New_York:20170620T173000
DTSTAMP:20260419T151749
CREATED:20170616T151206Z
LAST-MODIFIED:20170616T151206Z
UID:1600-1497979800-1497979800@phenixcitylibrary.com
SUMMARY:Movie Night
DESCRIPTION:Every Tuesday night at 5:30 p.m.\, EDT\, we will show a newly released movie! \nCheck out the upcoming the upcoming dates and titles: \n\n\nJune 20: Monster Trucks\n\n\nJune 27: Power Rangers\n\n\nJuly 11: The Fate of the Furious\n\n\nJuly 18: Kong-Skull Island\n\n\nJuly 25: Boss Baby
URL:https://phenixcitylibrary.com/event/movie-night/2017-06-20/
LOCATION:Phenix City – Russell County Library\, 1501 17th Avenue\, Phenix City\, AL\, 36867\, United States
CATEGORIES:Children,Events,Services,Teens
ATTACH;FMTTYPE=image/jpeg:https://phenixcitylibrary.com/wp-content/uploads/2017/06/Movie-Night.jpg
END:VEVENT
BEGIN:VEVENT
DTSTART;TZID=America/New_York:20170617T100000
DTEND;TZID=America/New_York:20170617T140000
DTSTAMP:20260419T151749
CREATED:20170424T185127Z
LAST-MODIFIED:20170424T185127Z
UID:1506-1497693600-1497708000@phenixcitylibrary.com
SUMMARY:Donuts with Dad
DESCRIPTION:Donuts with Dad\nLooking for a way to celebrate Father’s Day? Stop by the library between 10 a.m. and 2 p.m.\, Eastern Time\, for Donuts with Dad! The event will include donuts\, coffee\, and a Father’s Day craft.  All ages are welcomed! Bring your dad\, grandpa\, uncle\, friend\, father-figure\, etc. – anyone you’d like to recognize on this special day.
URL:https://phenixcitylibrary.com/event/donuts-with-dad/
LOCATION:Phenix City – Russell County Library\, 1501 17th Avenue\, Phenix City\, AL\, 36867\, United States
CATEGORIES:Children,Events,Services,Teens
ATTACH;FMTTYPE=image/jpeg:https://phenixcitylibrary.com/wp-content/uploads/2017/04/Donuts-with-Dad.jpg
END:VEVENT
BEGIN:VEVENT
DTSTART;TZID=America/New_York:20170615T140000
DTEND;TZID=America/New_York:20170615T140000
DTSTAMP:20260419T151749
CREATED:20170510T200350Z
LAST-MODIFIED:20170516T194952Z
UID:1551-1497535200-1497535200@phenixcitylibrary.com
SUMMARY:Junior Summer Reading Program: Build a Bird Feeder
DESCRIPTION:The Summer Reading Program is back!! The Junior’s Program will meet every Thursday\, June 8 through July 13\, at 2 p.m. EDT. See flyer below for our weekly program details. \nAges 7-11 are welcomed to join us for our weekly Junior Program events at the library. \nSee you there!
URL:https://phenixcitylibrary.com/event/summer-reading-juniors-program-2017-06-15/
LOCATION:Phenix City – Russell County Library\, 1501 17th Avenue\, Phenix City\, AL\, 36867\, United States
CATEGORIES:Children,Events,Services
ATTACH;FMTTYPE=image/jpeg:https://phenixcitylibrary.com/wp-content/uploads/2017/05/Summer-Reading-Juniors.jpg
END:VEVENT
BEGIN:VEVENT
DTSTART;TZID=America/New_York:20170615T100000
DTEND;TZID=America/New_York:20170615T100000
DTSTAMP:20260419T151749
CREATED:20170510T195952Z
LAST-MODIFIED:20170516T195445Z
UID:1545-1497520800-1497520800@phenixcitylibrary.com
SUMMARY:Children's Summer Reading Program: Skip Cain - Build a Magical World with the Magic Guy!
DESCRIPTION:The Summer Reading Program is back!! The Children’s Program will meet every Thursday\, June 8 through July 13\, at 10 a.m. EDT. See flyer below for our weekly program details. \nAll ages are welcomed to come to our weekly Children’s Program events at the library. \nSee you there!
URL:https://phenixcitylibrary.com/event/summer-reading-childrens-program-2017-06-15/
LOCATION:Phenix City – Russell County Library\, 1501 17th Avenue\, Phenix City\, AL\, 36867\, United States
CATEGORIES:Children,Events,Services
ATTACH;FMTTYPE=image/jpeg:https://phenixcitylibrary.com/wp-content/uploads/2017/05/Summer-Reading-Childrens.jpg
END:VEVENT
BEGIN:VEVENT
DTSTART;TZID=America/New_York:20170608T140000
DTEND;TZID=America/New_York:20170608T140000
DTSTAMP:20260419T151749
CREATED:20170510T200350Z
LAST-MODIFIED:20170516T194919Z
UID:1550-1496930400-1496930400@phenixcitylibrary.com
SUMMARY:Junior Summer Reading Program: Gardening
DESCRIPTION:The Summer Reading Program is back!! The Junior’s Program will meet every Thursday\, June 8 through July 13\, at 2 p.m. EDT. See flyer below for our weekly program details. \nAges 7-11 are welcomed to join us for our weekly Junior Program events at the library. \nSee you there!
URL:https://phenixcitylibrary.com/event/summer-reading-juniors-program/
LOCATION:Phenix City – Russell County Library\, 1501 17th Avenue\, Phenix City\, AL\, 36867\, United States
CATEGORIES:Children,Events,Services
ATTACH;FMTTYPE=image/jpeg:https://phenixcitylibrary.com/wp-content/uploads/2017/05/Summer-Reading-Juniors.jpg
END:VEVENT
BEGIN:VEVENT
DTSTART;TZID=America/New_York:20170608T100000
DTEND;TZID=America/New_York:20170608T100000
DTSTAMP:20260419T151749
CREATED:20170510T195952Z
LAST-MODIFIED:20170516T195513Z
UID:1544-1496916000-1496916000@phenixcitylibrary.com
SUMMARY:Children's Summer Reading Program: Lew-E's Circus
DESCRIPTION:The Summer Reading Program is back!! The Children’s Program will meet every Thursday\, June 8 through July 13\, at 10 a.m. EDT. See flyer below for our weekly program details. \nAll ages are welcomed to come to our weekly Children’s Program events at the library. \nSee you there!
URL:https://phenixcitylibrary.com/event/summer-reading-childrens-program/
LOCATION:Phenix City – Russell County Library\, 1501 17th Avenue\, Phenix City\, AL\, 36867\, United States
CATEGORIES:Children,Events,Services
ATTACH;FMTTYPE=image/jpeg:https://phenixcitylibrary.com/wp-content/uploads/2017/05/Summer-Reading-Childrens.jpg
END:VEVENT
BEGIN:VEVENT
DTSTART;VALUE=DATE:20170601
DTEND;VALUE=DATE:20170602
DTSTAMP:20260419T151749
CREATED:20170502T200949Z
LAST-MODIFIED:20170516T200534Z
UID:1538-1496275200-1496361599@phenixcitylibrary.com
SUMMARY:Summer Reading Program Registration Begins!
DESCRIPTION:Build a Better World\nThe staff here at the Phenix City-Russell County Library has been busy planning programs and activities to ensure this year’s Summer Reading Program will be GREAT! We can’t wait to see you! Registration for Summer Reading begins June 1. \nCheck out the flyers and program dates below. If you have any questions about what level your child\, junior\, or teen should sign up for\, please give us a call at 334-297-1139. \nIn order to prepare for our weekly events\, the following ages will apply to the weekly programs regardless of what reading level your child is in: \n\nChildren’s: All Ages\nJunior’s: Ages 7-11\nTeens: Ages 12 and up\n\nCan’t make it to every weekly event\, but still want to participate? No problem! Stop by the library to register and pick up a summer reading log. \nChildren’s Programs\nThursdays @ 10 a.m. \nJune: 8 | 5 | 22 | 29\nJuly: 6 | 13 \nJunior’s Programs\nThursdays @ 2 p.m. \nJune: 8 | 5 | 22 | 29\nJuly: 6 | 13 \nTeen Programs\nFridays @ 2 p.m. \nJune: 9 | 6 | 23 | 30\nJuly: 7 | 14 \nPrint a Copy \nPrint a Copy \nPrint a Copy \nPrint a Copy
URL:https://phenixcitylibrary.com/event/summer-reading-program-registration-begins/
LOCATION:Phenix City – Russell County Library\, 1501 17th Avenue\, Phenix City\, AL\, 36867\, United States
CATEGORIES:Children,Education,Events,Services,Teens
ATTACH;FMTTYPE=image/jpeg:https://phenixcitylibrary.com/wp-content/uploads/2017/05/Summer-Reading-Registration.jpg
END:VEVENT
BEGIN:VEVENT
DTSTART;VALUE=DATE:20170529
DTEND;VALUE=DATE:20170530
DTSTAMP:20260419T151749
CREATED:20170501T173714Z
LAST-MODIFIED:20170501T173714Z
UID:1515-1496016000-1496102399@phenixcitylibrary.com
SUMMARY:Library Closed
DESCRIPTION:The library will be closed on Monday\, May 29\, 2017\, in observance of the Memorial Day holiday\, and will reopen for normal business hours on Tuesday at 9:30 a.m. EDT. \nWe hope you all have a safe and enjoyable Memorial Day!
URL:https://phenixcitylibrary.com/event/library-closed-3/
LOCATION:Phenix City – Russell County Library\, 1501 17th Avenue\, Phenix City\, AL\, 36867\, United States
CATEGORIES:Children,Education,Events,Services,Teens
ATTACH;FMTTYPE=image/jpeg:https://phenixcitylibrary.com/wp-content/uploads/2017/04/Library-Closed.jpg
END:VEVENT
BEGIN:VEVENT
DTSTART;VALUE=DATE:20170514
DTEND;VALUE=DATE:20170515
DTSTAMP:20260419T151749
CREATED:20170501T173432Z
LAST-MODIFIED:20170501T173432Z
UID:1514-1494720000-1494806399@phenixcitylibrary.com
SUMMARY:Library Closed
DESCRIPTION:The library will be closed on Sunday\, May 14\, 2017\, in observance of Mother’s Day\, and will reopen for normal business hours on Monday at 9:30 a.m.\, EDT. \nWe hope you all enjoy Mother’s Day!
URL:https://phenixcitylibrary.com/event/library-closed-2/
LOCATION:Phenix City – Russell County Library\, 1501 17th Avenue\, Phenix City\, AL\, 36867\, United States
CATEGORIES:Children,Education,Events,Services,Teens
ATTACH;FMTTYPE=image/jpeg:https://phenixcitylibrary.com/wp-content/uploads/2017/04/Library-Closed.jpg
END:VEVENT
BEGIN:VEVENT
DTSTART;VALUE=DATE:20170416
DTEND;VALUE=DATE:20170417
DTSTAMP:20260419T151749
CREATED:20170411T151440Z
LAST-MODIFIED:20170411T151440Z
UID:1329-1492300800-1492387199@phenixcitylibrary.com
SUMMARY:LIBRARY CLOSED
DESCRIPTION:The Library will be closed Sunday\, April 16\, 2017\, in observance of the Easter holiday\, and will reopen for normal business hours on Monday\, April 17\, 2017. We hope you all enjoy your Easter!
URL:https://phenixcitylibrary.com/event/library-closed/
LOCATION:Phenix City – Russell County Library\, 1501 17th Avenue\, Phenix City\, AL\, 36867\, United States
CATEGORIES:Children,Education,Events,Services,Teens
ATTACH;FMTTYPE=image/jpeg:https://phenixcitylibrary.com/wp-content/uploads/2017/04/Library-Closed.jpg
END:VEVENT
BEGIN:VEVENT
DTSTART;VALUE=DATE:20170413
DTEND;VALUE=DATE:20170414
DTSTAMP:20260419T151749
CREATED:20170411T154829Z
LAST-MODIFIED:20170411T160338Z
UID:1335-1492041600-1492127999@phenixcitylibrary.com
SUMMARY:Double DVD Day
DESCRIPTION:It’s Double DVD Day at the Phenix City-Russell County Library! Come in every Thursday and check out two-for-one DVDs!
URL:https://phenixcitylibrary.com/event/double-dvd-day/2017-04-13/
LOCATION:Phenix City – Russell County Library\, 1501 17th Avenue\, Phenix City\, AL\, 36867\, United States
CATEGORIES:Children,Education,Events,Services,Teens
ATTACH;FMTTYPE=image/jpeg:https://phenixcitylibrary.com/wp-content/uploads/2017/04/Double-DVD-Day.jpg
END:VEVENT
BEGIN:VEVENT
DTSTART;TZID=America/New_York:20170411T100000
DTEND;TZID=America/New_York:20170411T180000
DTSTAMP:20260419T151749
CREATED:20170410T155217Z
LAST-MODIFIED:20171213T160515Z
UID:1264-1491904800-1491933600@phenixcitylibrary.com
SUMMARY:FOL Bookstore
DESCRIPTION:Friends of the Library Bookstore\nJoin us every Tuesday in the Friends of the Library Bookstore! It’s open all day long\, and is located directly behind the circulation desk. There is always a variety of books to choose from. All proceeds go towards  supporting the Phenix City-Russell County Library and enhancing programs. \nPricing\nHardcover: $1.00 \nPaperback: $0.50
URL:https://phenixcitylibrary.com/event/fol-bookstore/2017-04-11/
LOCATION:Phenix City – Russell County Library\, 1501 17th Avenue\, Phenix City\, AL\, 36867\, United States
CATEGORIES:Children,Education,Events,Services,Teens
ATTACH;FMTTYPE=image/jpeg:https://phenixcitylibrary.com/wp-content/uploads/2017/04/FOL-Bookstore.jpg
END:VEVENT
BEGIN:VEVENT
DTSTART;TZID=America/New_York:20170324T160000
DTEND;TZID=America/New_York:20170324T160000
DTSTAMP:20260419T151749
CREATED:20170320T193449Z
LAST-MODIFIED:20170321T181749Z
UID:661-1490371200-1490371200@phenixcitylibrary.com
SUMMARY:Make & Take
DESCRIPTION:Make & Take  | Fridays @ 4 p.m.\nMake a simple craft\, color pages\, stickers\, etc. \nMAKE it here\, then TAKE it home!
URL:https://phenixcitylibrary.com/event/make-take/2017-03-24/
LOCATION:Phenix City – Russell County Library\, 1501 17th Avenue\, Phenix City\, AL\, 36867\, United States
CATEGORIES:Children
ATTACH;FMTTYPE=image/jpeg:https://phenixcitylibrary.com/wp-content/uploads/2017/03/Make-Take.jpg
END:VEVENT
BEGIN:VEVENT
DTSTART;TZID=America/New_York:20170324T110000
DTEND;TZID=America/New_York:20170324T110000
DTSTAMP:20260419T151749
CREATED:20170321T182445Z
LAST-MODIFIED:20170321T182445Z
UID:804-1490353200-1490353200@phenixcitylibrary.com
SUMMARY:Toddler Tales & Tunes
DESCRIPTION:Toddler Tales & Tunes!\nEach Friday at 11 a.m.\, ET\, join us for stories and music geared towards our youngest patrons!
URL:https://phenixcitylibrary.com/event/toddler-tales-tunes/2017-03-24/
LOCATION:Phenix City – Russell County Library\, 1501 17th Avenue\, Phenix City\, AL\, 36867\, United States
CATEGORIES:Children
ATTACH;FMTTYPE=image/jpeg:https://phenixcitylibrary.com/wp-content/uploads/2017/03/Toddler-Tales.jpg
END:VEVENT
BEGIN:VEVENT
DTSTART;TZID=America/New_York:20170322T100000
DTEND;TZID=America/New_York:20170322T100000
DTSTAMP:20260419T151749
CREATED:20170320T200005Z
LAST-MODIFIED:20170321T181213Z
UID:669-1490176800-1490176800@phenixcitylibrary.com
SUMMARY:Preschool Story Hour
DESCRIPTION:Preschool Story Hour!\nWednesdays: 10 a.m. | Saturdays: 11 a.m. \nStories\, songs\, crafts\, and a snack will be provided!
URL:https://phenixcitylibrary.com/event/preschool-story-hour/2017-03-22/
LOCATION:Phenix City – Russell County Library\, 1501 17th Avenue\, Phenix City\, AL\, 36867\, United States
CATEGORIES:Children
ATTACH;FMTTYPE=image/jpeg:https://phenixcitylibrary.com/wp-content/uploads/2017/03/Preschool-Story-Hour.jpg
END:VEVENT
BEGIN:VEVENT
DTSTART;TZID=America/New_York:20170321T100000
DTEND;TZID=America/New_York:20170321T100000
DTSTAMP:20260419T151749
CREATED:20170321T184426Z
LAST-MODIFIED:20170321T184426Z
UID:845-1490090400-1490090400@phenixcitylibrary.com
SUMMARY:Dial-a-Story
DESCRIPTION:Dial-a-Story\nEach week on Tuesday\, you can call in and listen to a new children’s book read through our Dial-a-Story phone line! Perfect for bedtime stories\, short car trips (with hands-free technology\, of course)\, or just plain fun! Call today! You may also follow along with the page-by-page video on our Facebook. \nCall: 334-664-1713
URL:https://phenixcitylibrary.com/event/dial-a-story/2017-03-21/
LOCATION:Phenix City – Russell County Library\, 1501 17th Avenue\, Phenix City\, AL\, 36867\, United States
CATEGORIES:Children
ATTACH;FMTTYPE=image/jpeg:https://phenixcitylibrary.com/wp-content/uploads/2017/03/Dial-a-Story.jpg
END:VEVENT
BEGIN:VEVENT
DTSTART;TZID=America/New_York:20170311T110000
DTEND;TZID=America/New_York:20170311T110000
DTSTAMP:20260419T151749
CREATED:20170321T193232Z
LAST-MODIFIED:20170321T193232Z
UID:886-1489230000-1489230000@phenixcitylibrary.com
SUMMARY:Reading with Punkin'
DESCRIPTION:Reading with Ms. Beverly & Punkin’\nJoin us every second Saturday of the month at 11 a.m.\, ET\, for story time with Ms. Beverly and Punkin’!
URL:https://phenixcitylibrary.com/event/reading-with-punkin/2017-03-11/
LOCATION:Phenix City – Russell County Library\, 1501 17th Avenue\, Phenix City\, AL\, 36867\, United States
CATEGORIES:Children
ATTACH;FMTTYPE=image/jpeg:https://phenixcitylibrary.com/wp-content/uploads/2017/03/Reading-with-Punkin.jpg
END:VEVENT
END:VCALENDAR