BEGIN:VCALENDAR
VERSION:2.0
PRODID:-//Phenix City-Russell County Library - ECPv6.15.17.1//NONSGML v1.0//EN
CALSCALE:GREGORIAN
METHOD:PUBLISH
X-ORIGINAL-URL:https://phenixcitylibrary.com
X-WR-CALDESC:Events for Phenix City-Russell County Library
REFRESH-INTERVAL;VALUE=DURATION:PT1H
X-Robots-Tag:noindex
X-PUBLISHED-TTL:PT1H
BEGIN:VTIMEZONE
TZID:America/New_York
BEGIN:DAYLIGHT
TZOFFSETFROM:-0500
TZOFFSETTO:-0400
TZNAME:EDT
DTSTART:20190310T070000
END:DAYLIGHT
BEGIN:STANDARD
TZOFFSETFROM:-0400
TZOFFSETTO:-0500
TZNAME:EST
DTSTART:20191103T060000
END:STANDARD
BEGIN:DAYLIGHT
TZOFFSETFROM:-0500
TZOFFSETTO:-0400
TZNAME:EDT
DTSTART:20200308T070000
END:DAYLIGHT
BEGIN:STANDARD
TZOFFSETFROM:-0400
TZOFFSETTO:-0500
TZNAME:EST
DTSTART:20201101T060000
END:STANDARD
BEGIN:DAYLIGHT
TZOFFSETFROM:-0500
TZOFFSETTO:-0400
TZNAME:EDT
DTSTART:20210314T070000
END:DAYLIGHT
BEGIN:STANDARD
TZOFFSETFROM:-0400
TZOFFSETTO:-0500
TZNAME:EST
DTSTART:20211107T060000
END:STANDARD
END:VTIMEZONE
BEGIN:VEVENT
DTSTART;VALUE=DATE:20200507
DTEND;VALUE=DATE:20200508
DTSTAMP:20260424T033121
CREATED:20200211T165414Z
LAST-MODIFIED:20200505T144945Z
UID:3938-1588809600-1588895999@phenixcitylibrary.com
SUMMARY:CANCELED: Double DVD Day
DESCRIPTION:It’s Double DVD Day at the Phenix City-Russell County Library! Come in every Thursday and check out two-for-one DVDs!
URL:https://phenixcitylibrary.com/event/double-dvd-day-2020-2020-05-07/
LOCATION:Phenix City – Russell County Library\, 1501 17th Avenue\, Phenix City\, AL\, 36867\, United States
CATEGORIES:Children,Services,Teens
ATTACH;FMTTYPE=image/jpeg:https://phenixcitylibrary.com/wp-content/uploads/2017/04/Double-DVD-Day.jpg
END:VEVENT
BEGIN:VEVENT
DTSTART;TZID=America/New_York:20200507T150000
DTEND;TZID=America/New_York:20200507T150000
DTSTAMP:20260424T033121
CREATED:20200210T194259Z
LAST-MODIFIED:20200505T144941Z
UID:3532-1588863600-1588863600@phenixcitylibrary.com
SUMMARY:CANCELED: Tinker Time
DESCRIPTION:Thursdays | 3 p.m. ET | School-aged children \nEvery Thursday\, the MakerSpace will be open at 3 p.m. Eastern Time for you to use your imagination to LEARN\, MAKE\, and CREATE!
URL:https://phenixcitylibrary.com/event/tinker-time-2020-2020-05-07/
LOCATION:Phenix City – Russell County Library\, 1501 17th Avenue\, Phenix City\, AL\, 36867\, United States
CATEGORIES:Children,Education,Events,Services,Teens
ATTACH;FMTTYPE=image/jpeg:https://phenixcitylibrary.com/wp-content/uploads/2019/03/Tinker-Time.jpg
END:VEVENT
END:VCALENDAR