BEGIN:VCALENDAR
VERSION:2.0
PRODID:-//Phenix City-Russell County Library - ECPv6.15.17.1//NONSGML v1.0//EN
CALSCALE:GREGORIAN
METHOD:PUBLISH
X-WR-CALNAME:Phenix City-Russell County Library
X-ORIGINAL-URL:https://phenixcitylibrary.com
X-WR-CALDESC:Events for Phenix City-Russell County Library
REFRESH-INTERVAL;VALUE=DURATION:PT1H
X-Robots-Tag:noindex
X-PUBLISHED-TTL:PT1H
BEGIN:VTIMEZONE
TZID:America/New_York
BEGIN:DAYLIGHT
TZOFFSETFROM:-0500
TZOFFSETTO:-0400
TZNAME:EDT
DTSTART:20220313T070000
END:DAYLIGHT
BEGIN:STANDARD
TZOFFSETFROM:-0400
TZOFFSETTO:-0500
TZNAME:EST
DTSTART:20221106T060000
END:STANDARD
BEGIN:DAYLIGHT
TZOFFSETFROM:-0500
TZOFFSETTO:-0400
TZNAME:EDT
DTSTART:20230312T070000
END:DAYLIGHT
BEGIN:STANDARD
TZOFFSETFROM:-0400
TZOFFSETTO:-0500
TZNAME:EST
DTSTART:20231105T060000
END:STANDARD
BEGIN:DAYLIGHT
TZOFFSETFROM:-0500
TZOFFSETTO:-0400
TZNAME:EDT
DTSTART:20240310T070000
END:DAYLIGHT
BEGIN:STANDARD
TZOFFSETFROM:-0400
TZOFFSETTO:-0500
TZNAME:EST
DTSTART:20241103T060000
END:STANDARD
BEGIN:DAYLIGHT
TZOFFSETFROM:-0500
TZOFFSETTO:-0400
TZNAME:EDT
DTSTART:20250309T070000
END:DAYLIGHT
BEGIN:STANDARD
TZOFFSETFROM:-0400
TZOFFSETTO:-0500
TZNAME:EST
DTSTART:20251102T060000
END:STANDARD
END:VTIMEZONE
BEGIN:VEVENT
DTSTART;TZID=America/New_York:20231102T060000
DTEND;TZID=America/New_York:20231102T120000
DTSTAMP:20260422T041800
CREATED:20231013T191021Z
LAST-MODIFIED:20231013T191021Z
UID:5622-1698904800-1698926400@phenixcitylibrary.com
SUMMARY:Friends of the Library Bag of Books Sale
DESCRIPTION:Come join the Friends of the Library on November 2nd – 4th for our Fall Bag of Books sale. \nBuy a bag from the Friends of the Library for just $5\, and fill it up with the books of your choice! Stock up on your reading material during the following dates and times: \nThursday\, November 2nd\, 10 a.m. – 4 p.m. Eastern Time (Special Needs Patrons & Their Caregiver) \nFriday\, November 3rd\, 10 a.m. – 4 p.m. Eastern Time (Open for Everyone) \nSaturday\, November 4th\, 10 a.m. – 4 p.m. Eastern Time (Open for Everyone)
URL:https://phenixcitylibrary.com/event/friends-of-the-library-bag-of-books-sale/2023-11-02/
LOCATION:Phenix City – Russell County Library\, 1501 17th Avenue\, Phenix City\, AL\, 36867\, United States
CATEGORIES:Events
ATTACH;FMTTYPE=image/jpeg:https://phenixcitylibrary.com/wp-content/uploads/2023/10/FOL-Book-Sale-101323.jpg
END:VEVENT
BEGIN:VEVENT
DTSTART;TZID=America/New_York:20231114T120000
DTEND;TZID=America/New_York:20231114T120000
DTSTAMP:20260422T041800
CREATED:20230125T150919Z
LAST-MODIFIED:20231013T122532Z
UID:5367-1699963200-1699963200@phenixcitylibrary.com
SUMMARY:Lunch and Learn: Horrible House of Germs-Holiday Handwashing
DESCRIPTION:Today’s Lunch and Learn Series event presents “Horrible House of Germs-Holiday Handwashing”\, with guest speaker Janet Johnson. \nBring your own lunch. There is no charge. \nTo preregister or for more information\, please contact the Phenix City/Russel County Library at 334-297-1139.
URL:https://phenixcitylibrary.com/event/lunch-and-learn-horrible-house-of-germs-holiday-handwashing/
LOCATION:Phenix City – Russell County Library\, 1501 17th Avenue\, Phenix City\, AL\, 36867\, United States
CATEGORIES:Education,Events,Services
ATTACH;FMTTYPE=image/jpeg:https://phenixcitylibrary.com/wp-content/uploads/2023/10/Lunch-and-Learn-Horrible-House-of-Germs-101323.jpg
END:VEVENT
BEGIN:VEVENT
DTSTART;TZID=America/New_York:20231212T123000
DTEND;TZID=America/New_York:20231212T123000
DTSTAMP:20260422T041800
CREATED:20230125T151038Z
LAST-MODIFIED:20231130T204147Z
UID:5369-1702384200-1702384200@phenixcitylibrary.com
SUMMARY:Lunch and Learn: Wreath Making with Natural Materials
DESCRIPTION:Today’s Lunch and Learn Series event presents “Wreath Making with Natural Materials”\, with guest speaker Jennifer Davidson. \nBring your own lunch. There is no charge. \nTo preregister or for more information\, please contact the Phenix City/Russel County Library at 334-297-1139.
URL:https://phenixcitylibrary.com/event/lunch-and-learn-wreath-making-with-natural-materials/
LOCATION:Phenix City – Russell County Library\, 1501 17th Avenue\, Phenix City\, AL\, 36867\, United States
CATEGORIES:Education,Events,Services
ATTACH;FMTTYPE=image/jpeg:https://phenixcitylibrary.com/wp-content/uploads/2023/11/Lunch-and-Learn-Wreath-Making-with-Natural-Materials.jpg
END:VEVENT
BEGIN:VEVENT
DTSTART;TZID=America/New_York:20231223T030000
DTEND;TZID=America/New_York:20231227T043000
DTSTAMP:20260422T041800
CREATED:20231221T182549Z
LAST-MODIFIED:20231221T182549Z
UID:5667-1703300400-1703651400@phenixcitylibrary.com
SUMMARY:LIBRARY CLOSED: Christmas Holiday Observed
DESCRIPTION:The Phenix City-Russell County Library will be closed beginning Saturday\, December 23\, 2023\, at 8 a.m.\, Eastern Time and will not reopen until Wednesday\, December 27\, at 9:30 a.m.\, Eastern Time in observance of the Christmas holiday.
URL:https://phenixcitylibrary.com/event/library-closed-christmas-holiday-observed/
LOCATION:Phenix City – Russell County Library\, 1501 17th Avenue\, Phenix City\, AL\, 36867\, United States
ATTACH;FMTTYPE=image/jpeg:https://phenixcitylibrary.com/wp-content/uploads/2023/12/PCRCL-Christmas-Hours-122123.jpg
END:VEVENT
BEGIN:VEVENT
DTSTART;VALUE=DATE:20240101
DTEND;VALUE=DATE:20240102
DTSTAMP:20260422T041800
CREATED:20240110T141429Z
LAST-MODIFIED:20240110T141505Z
UID:6143-1704067200-1704153599@phenixcitylibrary.com
SUMMARY:Closed
DESCRIPTION:Hours of operation: \nM: Closed\nTu: 9:30 a.m. – 7:00 p.m.\nW: 9:30 a.m. – 7:00 p.m.\nTh: 9:30 a.m. – 7:00 p.m.\nF: 9:30 a.m. – 6:00 p.m.\nSa: 9:30 a.m. – 6:00 p.m.\nSu: Closed
URL:https://phenixcitylibrary.com/event/closed/2024-01-01/
LOCATION:Phenix City – Russell County Library\, 1501 17th Avenue\, Phenix City\, AL\, 36867\, United States
END:VEVENT
BEGIN:VEVENT
DTSTART;TZID=America/New_York:20240104T120000
DTEND;TZID=America/New_York:20240104T120000
DTSTAMP:20260422T041800
CREATED:20231221T181930Z
LAST-MODIFIED:20240404T131433Z
UID:5662-1704369600-1704369600@phenixcitylibrary.com
SUMMARY:Lunch and Learn: Budgeting Your Money in the New Year
DESCRIPTION:Today’s Lunch and Learn Series event presents “Budgeting Your Money in the New Year”\, with guest speaker Angie Taylor. \nLunch will be provided. There is no charge. \nTo preregister or for more information\, please contact the Phenix City/Russel County Library at 334-297-1139.
URL:https://phenixcitylibrary.com/event/lunch-and-learn-budgeting-your-money-in-the-new-year/
LOCATION:Phenix City – Russell County Library\, 1501 17th Avenue\, Phenix City\, AL\, 36867\, United States
CATEGORIES:Education,Events,Services
ATTACH;FMTTYPE=image/jpeg:https://phenixcitylibrary.com/wp-content/uploads/2023/12/Lunch-and-Learn-January-121423.jpg
END:VEVENT
END:VCALENDAR