BEGIN:VCALENDAR
VERSION:2.0
PRODID:-//Phenix City-Russell County Library - ECPv6.15.17.1//NONSGML v1.0//EN
CALSCALE:GREGORIAN
METHOD:PUBLISH
X-WR-CALNAME:Phenix City-Russell County Library
X-ORIGINAL-URL:https://phenixcitylibrary.com
X-WR-CALDESC:Events for Phenix City-Russell County Library
REFRESH-INTERVAL;VALUE=DURATION:PT1H
X-Robots-Tag:noindex
X-PUBLISHED-TTL:PT1H
BEGIN:VTIMEZONE
TZID:America/New_York
BEGIN:DAYLIGHT
TZOFFSETFROM:-0500
TZOFFSETTO:-0400
TZNAME:EDT
DTSTART:20230312T070000
END:DAYLIGHT
BEGIN:STANDARD
TZOFFSETFROM:-0400
TZOFFSETTO:-0500
TZNAME:EST
DTSTART:20231105T060000
END:STANDARD
BEGIN:DAYLIGHT
TZOFFSETFROM:-0500
TZOFFSETTO:-0400
TZNAME:EDT
DTSTART:20240310T070000
END:DAYLIGHT
BEGIN:STANDARD
TZOFFSETFROM:-0400
TZOFFSETTO:-0500
TZNAME:EST
DTSTART:20241103T060000
END:STANDARD
BEGIN:DAYLIGHT
TZOFFSETFROM:-0500
TZOFFSETTO:-0400
TZNAME:EDT
DTSTART:20250309T070000
END:DAYLIGHT
BEGIN:STANDARD
TZOFFSETFROM:-0400
TZOFFSETTO:-0500
TZNAME:EST
DTSTART:20251102T060000
END:STANDARD
END:VTIMEZONE
BEGIN:VEVENT
DTSTART;TZID=America/New_York:20240131T170000
DTEND;TZID=America/New_York:20240131T183000
DTSTAMP:20260421T014513
CREATED:20240109T213705Z
LAST-MODIFIED:20241107T171407Z
UID:5894-1706720400-1706725800@phenixcitylibrary.com
SUMMARY:Phenix City – Russell County Library Book Club
DESCRIPTION:You are invited to join the Phenix City – Russell County Library Book Club! We will be meeting on the last Wednesday of every month to discuss the month’s reading choice. The Library Book Club is open to all and is held here at the Phenix City – Russell County Library from 5:00 pm to 6:30 pm Eastern Time. Hope to see you there!\nThis month’s Book Choice: To Kill a Mockingbird by Harper Lee
URL:https://phenixcitylibrary.com/event/phenix-city-russell-county-library-book-club-2/
LOCATION:Phenix City – Russell County Library\, 1501 17th Avenue\, Phenix City\, AL\, 36867\, United States
CATEGORIES:Events,Services
ATTACH;FMTTYPE=image/jpeg:https://phenixcitylibrary.com/wp-content/uploads/2024/01/Chapter-Chat-010924.jpg
END:VEVENT
BEGIN:VEVENT
DTSTART;TZID=America/New_York:20240201T120000
DTEND;TZID=America/New_York:20240201T120000
DTSTAMP:20260421T014513
CREATED:20240109T212745Z
LAST-MODIFIED:20240404T131441Z
UID:5890-1706788800-1706788800@phenixcitylibrary.com
SUMMARY:Lunch and Learn: Starting a Veggie Garden
DESCRIPTION:Today’s Lunch and Learn Series event presents “Starting a Veggie Garden”\, with guest speaker Keith Simms\, Mercy Med. \nLunch will be provided. There is no charge. \nTo preregister or for more information\, please contact the Phenix City/Russel County Library at 334-297-1139.
URL:https://phenixcitylibrary.com/event/lunch-and-learn-starting-a-veggie-garden/
LOCATION:Phenix City – Russell County Library\, 1501 17th Avenue\, Phenix City\, AL\, 36867\, United States
CATEGORIES:Education,Events,Services
ATTACH;FMTTYPE=image/jpeg:https://phenixcitylibrary.com/wp-content/uploads/2024/01/Lunch-Learn-February-010924.jpg
END:VEVENT
BEGIN:VEVENT
DTSTART;TZID=America/New_York:20240217T093000
DTEND;TZID=America/New_York:20240217T190000
DTSTAMP:20260421T014513
CREATED:20240215T143924Z
LAST-MODIFIED:20240215T143924Z
UID:6434-1708162200-1708196400@phenixcitylibrary.com
SUMMARY:LIBRARY CLOSED: Presidents' Day Holiday Observed
DESCRIPTION:The Phenix City-Russell County Library will be closed Saturday\, February 17\, 2024\, to observe the Presidents’ Day holiday. Offices will reopen Tuesday\, February 20\, 2024\, at 9:30 a.m.\, Eastern Time.
URL:https://phenixcitylibrary.com/event/library-closed-presidents-day-holiday-observed/
LOCATION:Phenix City – Russell County Library\, 1501 17th Avenue\, Phenix City\, AL\, 36867\, United States
END:VEVENT
BEGIN:VEVENT
DTSTART;TZID=America/New_York:20240228T170000
DTEND;TZID=America/New_York:20240228T183000
DTSTAMP:20260421T014513
CREATED:20240109T213705Z
LAST-MODIFIED:20241107T171345Z
UID:5897-1709139600-1709145000@phenixcitylibrary.com
SUMMARY:Phenix City – Russell County Library Book Club
DESCRIPTION:You are invited to join the Phenix City – Russell County Library Book Club! We will be meeting on the last Wednesday of every month to discuss the month’s reading choice. The Library Book Club is open to all and is held here at the Phenix City – Russell County Library from 5:00 pm to 6:30 pm Eastern Time. Hope to see you there!\nThis month’s Book Choice:
URL:https://phenixcitylibrary.com/event/phenix-city-russell-county-library-book-club-2-2024-02-28/
LOCATION:Phenix City – Russell County Library\, 1501 17th Avenue\, Phenix City\, AL\, 36867\, United States
CATEGORIES:Events,Services
END:VEVENT
BEGIN:VEVENT
DTSTART;TZID=America/New_York:20240307T120000
DTEND;TZID=America/New_York:20240307T120000
DTSTAMP:20260421T014513
CREATED:20240111T212020Z
LAST-MODIFIED:20240404T131444Z
UID:6372-1709812800-1709812800@phenixcitylibrary.com
SUMMARY:Lunch and Learn: Spring into Health: Mind and Body Wellness
DESCRIPTION:Today’s Lunch and Learn Series event presents “Spring into Health: Mind and Body Wellness”\, with guest speaker Regina Meadows\, Regional Extension Agent. \nLunch will be provided. There is no charge. \nTo preregister or for more information\, please contact the Phenix City/Russel County Library at 334-297-1139.
URL:https://phenixcitylibrary.com/event/lunch-and-learn-spring-into-health-mind-and-body-wellness/
LOCATION:Phenix City – Russell County Library\, 1501 17th Avenue\, Phenix City\, AL\, 36867\, United States
CATEGORIES:Education,Events,Services
ATTACH;FMTTYPE=image/jpeg:https://phenixcitylibrary.com/wp-content/uploads/2024/01/Lunch-Learn-Flyer-March-030724.jpg
END:VEVENT
BEGIN:VEVENT
DTSTART;TZID=America/New_York:20240319T130000
DTEND;TZID=America/New_York:20240319T130000
DTSTAMP:20260421T014513
CREATED:20240215T144931Z
LAST-MODIFIED:20240319T141533Z
UID:6437-1710853200-1710853200@phenixcitylibrary.com
SUMMARY:Springapalooza
DESCRIPTION:We have partnered up with FABArts again for our Springapalooza III. During the Spring Break week from Tuesday March 19th  thru Saturday March 23rd starting at 1:00 pm Eastern Standard Time\, we will be having different entertainers each day from a storyteller to a visual artist. Any age is welcome. Hope to see you there. \nTuesday: Microplastics: Art Made From Plastic You Throw Away *Bring a Plastic Bag*\nWednesday: Ron Anglin\, Juggler/Clown\nThursday: Jonathan Perkins\, Poet and Spoken Word Artist\nFriday: Sietske Johnson\, Visual Artist\nSaturday: Barry Stewart Mann\, National Storyteller of the Year
URL:https://phenixcitylibrary.com/event/springapalooza-2/2024-03-19/
LOCATION:Phenix City – Russell County Library\, 1501 17th Avenue\, Phenix City\, AL\, 36867\, United States
CATEGORIES:Children,Events
ATTACH;FMTTYPE=image/jpeg:https://phenixcitylibrary.com/wp-content/uploads/2024/02/Phenix-City-Russel-County-Library-Springapalooza-021524.jpg
END:VEVENT
BEGIN:VEVENT
DTSTART;TZID=America/New_York:20240323T130000
DTEND;TZID=America/New_York:20240323T130000
DTSTAMP:20260421T014513
CREATED:20240215T144931Z
LAST-MODIFIED:20250306T132315Z
UID:6442-1711198800-1711198800@phenixcitylibrary.com
SUMMARY:Springapalooza
DESCRIPTION:We have partnered up with FABArts again for our Springapalooza III. During the Spring Break week from Tuesday March 19th  thru Saturday March 23rd starting at 1:00 pm Eastern Standard Time\, we will be having different entertainers each day from a storyteller to a visual artist. Any age is welcome. Hope to see you there. \nTuesday: Microplastics: Art Made From Plastic You Throw Away *Bring a Plastic Bag*\nWednesday: Ron Anglin\, Juggler/Clown\nThursday: Jonathan Perkins\, Poet and Spoken Word Artist\nFriday: Sietske Johnson\, Visual Artist\nSaturday: Barry Stewart Mann\, National Storyteller of the Year
URL:https://phenixcitylibrary.com/event/springapalooza-2-2024-03-23/2024-03-23/
LOCATION:Phenix City – Russell County Library\, 1501 17th Avenue\, Phenix City\, AL\, 36867\, United States
CATEGORIES:Children,Events
ATTACH;FMTTYPE=image/jpeg:https://phenixcitylibrary.com/wp-content/uploads/2024/02/Phenix-City-Russel-County-Library-Springapalooza-021524.jpg
END:VEVENT
BEGIN:VEVENT
DTSTART;TZID=America/New_York:20240327T170000
DTEND;TZID=America/New_York:20240327T183000
DTSTAMP:20260421T014513
CREATED:20240109T213705Z
LAST-MODIFIED:20241107T171329Z
UID:5898-1711558800-1711564200@phenixcitylibrary.com
SUMMARY:Phenix City – Russell County Library Book Club
DESCRIPTION:You are invited to join the Phenix City – Russell County Library Book Club! We will be meeting on the last Wednesday of every month to discuss the month’s reading choice. The Library Book Club is open to all and is held here at the Phenix City – Russell County Library from 5:00 pm to 6:30 pm Eastern Time. Hope to see you there!\nThis month’s Book Choice:
URL:https://phenixcitylibrary.com/event/phenix-city-russell-county-library-book-club-2-2024-02-28-2024-03-27/
LOCATION:Phenix City – Russell County Library\, 1501 17th Avenue\, Phenix City\, AL\, 36867\, United States
CATEGORIES:Events,Services
END:VEVENT
BEGIN:VEVENT
DTSTART;TZID=America/New_York:20240404T120000
DTEND;TZID=America/New_York:20240404T120000
DTSTAMP:20260421T014513
CREATED:20240111T212833Z
LAST-MODIFIED:20240404T131353Z
UID:6374-1712232000-1712232000@phenixcitylibrary.com
SUMMARY:Lunch and Learn: Keep Your Grass Green: Turfgrass for Homeowners
DESCRIPTION:Today’s Lunch and Learn Series event presents “Keep Your Grass Green: Turfgrass for Homeowners”\, with guest speaker Jennifer Davidson\, County Extension Coordinator. \nLunch will be provided. There is no charge. \nTo preregister or for more information\, please contact the Phenix City/Russel County Library at 334-297-1139.
URL:https://phenixcitylibrary.com/event/lunch-and-learn-keep-your-grass-green-turfgrass-for-homeowners/
LOCATION:Phenix City – Russell County Library\, 1501 17th Avenue\, Phenix City\, AL\, 36867\, United States
CATEGORIES:Education,Events,Services
ATTACH;FMTTYPE=image/jpeg:https://phenixcitylibrary.com/wp-content/uploads/2024/01/Lunch-Learn-Flyer-April-040424.jpg
END:VEVENT
END:VCALENDAR