BEGIN:VCALENDAR
VERSION:2.0
PRODID:-//Phenix City-Russell County Library - ECPv6.15.17.1//NONSGML v1.0//EN
CALSCALE:GREGORIAN
METHOD:PUBLISH
X-WR-CALNAME:Phenix City-Russell County Library
X-ORIGINAL-URL:https://phenixcitylibrary.com
X-WR-CALDESC:Events for Phenix City-Russell County Library
REFRESH-INTERVAL;VALUE=DURATION:PT1H
X-Robots-Tag:noindex
X-PUBLISHED-TTL:PT1H
BEGIN:VTIMEZONE
TZID:America/New_York
BEGIN:DAYLIGHT
TZOFFSETFROM:-0500
TZOFFSETTO:-0400
TZNAME:EDT
DTSTART:20250309T070000
END:DAYLIGHT
BEGIN:STANDARD
TZOFFSETFROM:-0400
TZOFFSETTO:-0500
TZNAME:EST
DTSTART:20251102T060000
END:STANDARD
BEGIN:DAYLIGHT
TZOFFSETFROM:-0500
TZOFFSETTO:-0400
TZNAME:EDT
DTSTART:20260308T070000
END:DAYLIGHT
BEGIN:STANDARD
TZOFFSETFROM:-0400
TZOFFSETTO:-0500
TZNAME:EST
DTSTART:20261101T060000
END:STANDARD
BEGIN:DAYLIGHT
TZOFFSETFROM:-0500
TZOFFSETTO:-0400
TZNAME:EDT
DTSTART:20270314T070000
END:DAYLIGHT
BEGIN:STANDARD
TZOFFSETFROM:-0400
TZOFFSETTO:-0500
TZNAME:EST
DTSTART:20271107T060000
END:STANDARD
END:VTIMEZONE
BEGIN:VEVENT
DTSTART;VALUE=DATE:20260102
DTEND;VALUE=DATE:20260103
DTSTAMP:20260425T100837
CREATED:20251209T151436Z
LAST-MODIFIED:20251209T151436Z
UID:7434-1767312000-1767398399@phenixcitylibrary.com
SUMMARY:Adult Winter Reading Challenge
DESCRIPTION:Registration Starts January 2\, 2026!
URL:https://phenixcitylibrary.com/event/adult-winter-reading-challenge/
LOCATION:Phenix City – Russell County Library\, 1501 17th Avenue\, Phenix City\, AL\, 36867\, United States
CATEGORIES:Events
ATTACH;FMTTYPE=image/jpeg:https://phenixcitylibrary.com/wp-content/uploads/2025/12/Winter-Reading-Challenge-010226.jpg
END:VEVENT
BEGIN:VEVENT
DTSTART;TZID=America/New_York:20260103T100000
DTEND;TZID=America/New_York:20260103T150000
DTSTAMP:20260425T100837
CREATED:20260102T190859Z
LAST-MODIFIED:20260106T202833Z
UID:7460-1767434400-1767452400@phenixcitylibrary.com
SUMMARY:Family Fun & Games
DESCRIPTION:Please join us every Saturday from 10 a.m. to 3 p.m. as we host our Family Fun & Games event! Card games\, Board games\, and a whole lot of fun! We hope to see you there!
URL:https://phenixcitylibrary.com/event/family-fun-games/2026-01-03/
LOCATION:Phenix City – Russell County Library\, 1501 17th Avenue\, Phenix City\, AL\, 36867\, United States
ATTACH;FMTTYPE=image/jpeg:https://phenixcitylibrary.com/wp-content/uploads/2026/01/Fun-and-Games-010226.jpg
END:VEVENT
BEGIN:VEVENT
DTSTART;TZID=America/New_York:20260110T100000
DTEND;TZID=America/New_York:20260110T150000
DTSTAMP:20260425T100837
CREATED:20260102T190859Z
LAST-MODIFIED:20260106T202839Z
UID:7464-1768039200-1768057200@phenixcitylibrary.com
SUMMARY:Family Fun & Games
DESCRIPTION:Please join us every Saturday from 10 a.m. to 3 p.m. as we host our Family Fun & Games event! Card games\, Board games\, and a whole lot of fun! We hope to see you there!
URL:https://phenixcitylibrary.com/event/family-fun-games/2026-01-10/
LOCATION:Phenix City – Russell County Library\, 1501 17th Avenue\, Phenix City\, AL\, 36867\, United States
ATTACH;FMTTYPE=image/jpeg:https://phenixcitylibrary.com/wp-content/uploads/2026/01/Fun-and-Games-010226.jpg
END:VEVENT
BEGIN:VEVENT
DTSTART;TZID=America/New_York:20260117T100000
DTEND;TZID=America/New_York:20260117T150000
DTSTAMP:20260425T100837
CREATED:20260102T190859Z
LAST-MODIFIED:20260106T202839Z
UID:7465-1768644000-1768662000@phenixcitylibrary.com
SUMMARY:Family Fun & Games
DESCRIPTION:Please join us every Saturday from 10 a.m. to 3 p.m. as we host our Family Fun & Games event! Card games\, Board games\, and a whole lot of fun! We hope to see you there!
URL:https://phenixcitylibrary.com/event/family-fun-games/2026-01-17/
LOCATION:Phenix City – Russell County Library\, 1501 17th Avenue\, Phenix City\, AL\, 36867\, United States
ATTACH;FMTTYPE=image/jpeg:https://phenixcitylibrary.com/wp-content/uploads/2026/01/Fun-and-Games-010226.jpg
END:VEVENT
BEGIN:VEVENT
DTSTART;TZID=America/New_York:20260124T100000
DTEND;TZID=America/New_York:20260124T150000
DTSTAMP:20260425T100837
CREATED:20260102T190859Z
LAST-MODIFIED:20260106T202839Z
UID:7466-1769248800-1769266800@phenixcitylibrary.com
SUMMARY:Family Fun & Games
DESCRIPTION:Please join us every Saturday from 10 a.m. to 3 p.m. as we host our Family Fun & Games event! Card games\, Board games\, and a whole lot of fun! We hope to see you there!
URL:https://phenixcitylibrary.com/event/family-fun-games/2026-01-24/
LOCATION:Phenix City – Russell County Library\, 1501 17th Avenue\, Phenix City\, AL\, 36867\, United States
ATTACH;FMTTYPE=image/jpeg:https://phenixcitylibrary.com/wp-content/uploads/2026/01/Fun-and-Games-010226.jpg
END:VEVENT
BEGIN:VEVENT
DTSTART;TZID=America/New_York:20260124T140000
DTEND;TZID=America/New_York:20260124T140000
DTSTAMP:20260425T100837
CREATED:20260102T190408Z
LAST-MODIFIED:20260102T190408Z
UID:7451-1769263200-1769263200@phenixcitylibrary.com
SUMMARY:Adult Bingo for Books!
DESCRIPTION:Please join us January 24\, 2026 @ 2 p.m. for our Adult Bingo for Books event! We hope to see you there!
URL:https://phenixcitylibrary.com/event/adult-bingo-for-books/
LOCATION:Phenix City – Russell County Library\, 1501 17th Avenue\, Phenix City\, AL\, 36867\, United States
CATEGORIES:Events
ATTACH;FMTTYPE=image/jpeg:https://phenixcitylibrary.com/wp-content/uploads/2026/01/12-days-bingo-for-books-012426.jpg
END:VEVENT
BEGIN:VEVENT
DTSTART;TZID=America/New_York:20260128T170000
DTEND;TZID=America/New_York:20260128T170000
DTSTAMP:20260425T100837
CREATED:20251212T160734Z
LAST-MODIFIED:20251212T160734Z
UID:7443-1769619600-1769619600@phenixcitylibrary.com
SUMMARY:Phenix City – Russell County Library January Book Club
DESCRIPTION:You are invited to join the Phenix City – Russell County Library Book Club! The Library Book Club is open to all and is held here at the Phenix City – Russell County Library at 5:00 pm Eastern Time. Hope to see you there!\nThis month’s Book Choice: \n\nJanuary 28\, 2026: Nobody’s Girl by Virginia Roberts Giuffre
URL:https://phenixcitylibrary.com/event/phenix-city-russell-county-library-january-book-club/
LOCATION:Phenix City – Russell County Library\, 1501 17th Avenue\, Phenix City\, AL\, 36867\, United States
CATEGORIES:Events,Services
ATTACH;FMTTYPE=image/jpeg:https://phenixcitylibrary.com/wp-content/uploads/2025/12/Jan-Book-Club-010125.jpg
END:VEVENT
BEGIN:VEVENT
DTSTART;TZID=America/New_York:20260131T100000
DTEND;TZID=America/New_York:20260131T150000
DTSTAMP:20260425T100837
CREATED:20260102T190859Z
LAST-MODIFIED:20260106T202840Z
UID:7467-1769853600-1769871600@phenixcitylibrary.com
SUMMARY:Family Fun & Games
DESCRIPTION:Please join us every Saturday from 10 a.m. to 3 p.m. as we host our Family Fun & Games event! Card games\, Board games\, and a whole lot of fun! We hope to see you there!
URL:https://phenixcitylibrary.com/event/family-fun-games/2026-01-31/
LOCATION:Phenix City – Russell County Library\, 1501 17th Avenue\, Phenix City\, AL\, 36867\, United States
ATTACH;FMTTYPE=image/jpeg:https://phenixcitylibrary.com/wp-content/uploads/2026/01/Fun-and-Games-010226.jpg
END:VEVENT
END:VCALENDAR